BEGIN:VCALENDAR
VERSION:2.0
PRODID:-//http://www.cienciamx.com///NONSGML kigkonsult.se iCalcreator 2.10.15//
METHOD:PUBLISH
BEGIN:VEVENT
UID:20260420T213828UTC-4516CGoUgr@http://www.cienciamx.com/
DTSTAMP:20260420T213828Z
DESCRIPTION:Think Tank Foro Nacional de Salud COPARMEX 2019$1\,000.00\nMiér
 coles 20 de NoviembreHorario: 09:00 – 14:00 hrs.\nRESERVA TU LUGAR\nServic
 io: SesiónSede: Hotel Marriot ReformaSalón: Auditorio Frida KahloDirección
 : Av. Paseo de la Reforma 276\, Juárez\, Cuauhtémoc\, 06600 Ciudad de Méxi
 co\, CDMX.\n\n&nbsp\;\nAuditorio Frida Kahlo\, Hotel Marriot ReformaAv. Pa
 seo de la Reforma 276\, Juárez\, Cuauhtémoc\, 06600 Ciudad de México\, CDM
 X.\n\n&nbsp\;\n\n\n&nbsp\; http://www.cienciamx.com/index.php/sociedad/eve
 ntos/evento/181-think-tank-foro-nacional-de-salud-coparmex-2019
DTSTART:20191120T090000Z
DTEND:20191120T140000Z
LOCATION:Hotel Marriott Reforma\, CDMX (Av. Paseo de la Reforma 276\, Juáre
 z\, Cuauhtémoc\, 06600 Ciudad de México\, CDMX)
SUMMARY:Think Tank - Foro Nacional de Salud / Coparmex 2019
URL:http://www.cienciamx.com/index.php/sociedad/eventos/evento/181-think-ta
 nk-foro-nacional-de-salud-coparmex-2019
END:VEVENT
END:VCALENDAR
