BEGIN:VCALENDAR
VERSION:2.0
PRODID:-//http://www.cienciamx.com///NONSGML kigkonsult.se iCalcreator 2.10.15//
METHOD:PUBLISH
BEGIN:VEVENT
UID:20260420T032027UTC-1696U3fRke@http://www.cienciamx.com/
DTSTAMP:20260420T032027Z
DESCRIPTION:\n&nbsp\;\nCentro CitibanamexAv. del Conscripto 311\, Lomas de 
 Sotelo\, Hipódromo de las Américas\, Miguel Hidalgo\, 11200 Ciudad de Méxi
 co\, CDMX\n\n&nbsp\;\n\n\n&nbsp\; http://www.cienciamx.com/index.php/socie
 dad/eventos/evento/207-energy-mexico-2020
DTSTART:20200128T090000Z
DTEND:20200130T170000Z
LOCATION:Centro Citibanamex (Av. del Conscripto\, Lomas de Sotelo\, Hipódro
 mo de las Américas\, 11200 Ciudad de México\, CDMX\, México)
SUMMARY:Energy México 2020
URL:http://www.cienciamx.com/index.php/sociedad/eventos/evento/207-energy-m
 exico-2020
END:VEVENT
END:VCALENDAR
