BEGIN:VCALENDAR
VERSION:2.0
PRODID:-//http://www.cienciamx.com///NONSGML kigkonsult.se iCalcreator 2.10.15//
METHOD:PUBLISH
BEGIN:VEVENT
UID:20260422T142001UTC-3588CnxSWm@http://www.cienciamx.com/
DTSTAMP:20260422T142001Z
DESCRIPTION:\n&nbsp\;El concurso busca reconocer a los alumnos universitari
 os con las mejores propuestas de proyecto de impacto positivo a las comuni
 dades.\nCasas Javer da a conocer la cuarta edición de su concurso Javer Su
 stentable con el que busca reconocer a los alumnos universitarios con las 
 mejores propuestas de proyectos de impacto positivo para las comunidades\,
  tomando en cuenta el desarrollo sustentable\, la innovación\, tecnología 
 y la acción social.\nLa actividad suma a los esfuerzos de la iniciativa fo
 mentada por el INFONAVIT\, la cual tiene como objetivo desarrollar comunid
 ades sostenibles por medio del fortalecimiento del tejido social y manteni
 miento de las áreas comunes para garantizar la plusvalía de los inmuebles 
 de cada propietario.\nA través de una conferencia plenaria virtual\, los a
 lumnos tendrán la oportunidad de conocer las necesidades y contexto de las
  comunidades.\nEn esta edición se evaluarán las aplicaciones segúnDiseño v
 isual.Descripción de funciones de la aplicación.Descripción de requerimien
 tos técnicos para el funcionamiento de la aplicación.Mecanismos y herramie
 ntas para garantizar la seguridad de la misma. \nBASES PREMIO JAVER SUSTEN
 TABLE\na) Cada equipo estará integrado hasta por 3 alumnos.b) Se deberá cr
 ear un proyecto con un presupuesto de $200\,000.00 (doscientos mil pesos 0
 0/100 M.N.) para la ejecución final de su propuesta.c) Especificar a quién
  va dirigido el proyecto.d) La convocatoria es a toda la comunidad de estu
 diantes universitarios (es nacional y no tiene rango de edades)e) Es recom
 endable que el alumno(a) o equipo domine los siguientes rubros:Tecnologías
  de la información\nTrabajo socialSostenibilidadAdministraciónDiseño y Com
 unicación\n\n\n\n&nbsp\; http://www.cienciamx.com/index.php/sociedad/event
 os/evento/261-javer-anuncia-la-4a-edicion-de-su-premio-javer-sustentable
DTSTART:20210913T000000Z
DTEND:20210915T235959Z
LOCATION:Online ()
SUMMARY:Javer anuncia la 4a edición de su Premio JAVER SUSTENTABLE
URL:http://www.cienciamx.com/index.php/sociedad/eventos/evento/261-javer-an
 uncia-la-4a-edicion-de-su-premio-javer-sustentable
END:VEVENT
END:VCALENDAR
